BEGIN:VCALENDAR
VERSION:2.0
PRODID:-//Fox Point Homeowners Association - ECPv6.15.17.1//NONSGML v1.0//EN
CALSCALE:GREGORIAN
METHOD:PUBLISH
X-WR-CALNAME:Fox Point Homeowners Association
X-ORIGINAL-URL:https://foxpoint.org
X-WR-CALDESC:Events for Fox Point Homeowners Association
REFRESH-INTERVAL;VALUE=DURATION:PT1H
X-Robots-Tag:noindex
X-PUBLISHED-TTL:PT1H
BEGIN:VTIMEZONE
TZID:America/Chicago
BEGIN:DAYLIGHT
TZOFFSETFROM:-0600
TZOFFSETTO:-0500
TZNAME:CDT
DTSTART:20210314T080000
END:DAYLIGHT
BEGIN:STANDARD
TZOFFSETFROM:-0500
TZOFFSETTO:-0600
TZNAME:CST
DTSTART:20211107T070000
END:STANDARD
BEGIN:DAYLIGHT
TZOFFSETFROM:-0600
TZOFFSETTO:-0500
TZNAME:CDT
DTSTART:20220313T080000
END:DAYLIGHT
BEGIN:STANDARD
TZOFFSETFROM:-0500
TZOFFSETTO:-0600
TZNAME:CST
DTSTART:20221106T070000
END:STANDARD
BEGIN:DAYLIGHT
TZOFFSETFROM:-0600
TZOFFSETTO:-0500
TZNAME:CDT
DTSTART:20230312T080000
END:DAYLIGHT
BEGIN:STANDARD
TZOFFSETFROM:-0500
TZOFFSETTO:-0600
TZNAME:CST
DTSTART:20231105T070000
END:STANDARD
END:VTIMEZONE
BEGIN:VEVENT
DTSTART;TZID=America/Chicago:20220205T000000
DTEND;TZID=America/Chicago:20220205T000000
DTSTAMP:20260425T160745
CREATED:20220104T190812Z
LAST-MODIFIED:20220106T022557Z
UID:10000255-1644019200-1644019200@foxpoint.org
SUMMARY:Fox Point Ladies Holiday Party
DESCRIPTION:[vc_row][vc_column width=”2/3″][vc_column_text] \nSave the Date for the Ladies Holiday Party!\nSaturday\, February 5th @11:00 am at Region Kitchen + Bar. More details will be coming soon![/vc_column_text][/vc_column][vc_column width=”1/3″ css=”.vc_custom_1641322977513{padding: 15px !important;background-color: #f8f8f8 !important;}”][vc_column_text]Region Kitchen + Bar \n\n\n\n\n718 W. NW Highway\,\nBarrington\, IL 60010 \n\n\n\n\n\n\n\n  \n\nPhone: (224) 848-4005 \n\n\n\n\n[/vc_column_text][/vc_column][/vc_row]
URL:https://foxpoint.org/event/fox-point-ladies-holiday-party/
LOCATION:Region Bar + Kitchen\, 718 W. NW Highway\, Barrington\, IL\, 60010\, United States
CATEGORIES:Events
GEO:42.1674152;-88.1560792
X-APPLE-STRUCTURED-LOCATION;VALUE=URI;X-ADDRESS=Region Bar + Kitchen 718 W. NW Highway Barrington IL 60010 United States;X-APPLE-RADIUS=500;X-TITLE=718 W. NW Highway:geo:-88.1560792,42.1674152
END:VEVENT
END:VCALENDAR