BEGIN:VCALENDAR
VERSION:2.0
PRODID:-//Fox Point Homeowners Association - ECPv6.15.17.1//NONSGML v1.0//EN
CALSCALE:GREGORIAN
METHOD:PUBLISH
X-ORIGINAL-URL:https://foxpoint.org
X-WR-CALDESC:Events for Fox Point Homeowners Association
REFRESH-INTERVAL;VALUE=DURATION:PT1H
X-Robots-Tag:noindex
X-PUBLISHED-TTL:PT1H
BEGIN:VTIMEZONE
TZID:America/Chicago
BEGIN:DAYLIGHT
TZOFFSETFROM:-0600
TZOFFSETTO:-0500
TZNAME:CDT
DTSTART:20190310T080000
END:DAYLIGHT
BEGIN:STANDARD
TZOFFSETFROM:-0500
TZOFFSETTO:-0600
TZNAME:CST
DTSTART:20191103T070000
END:STANDARD
BEGIN:DAYLIGHT
TZOFFSETFROM:-0600
TZOFFSETTO:-0500
TZNAME:CDT
DTSTART:20200308T080000
END:DAYLIGHT
BEGIN:STANDARD
TZOFFSETFROM:-0500
TZOFFSETTO:-0600
TZNAME:CST
DTSTART:20201101T070000
END:STANDARD
BEGIN:DAYLIGHT
TZOFFSETFROM:-0600
TZOFFSETTO:-0500
TZNAME:CDT
DTSTART:20210314T080000
END:DAYLIGHT
BEGIN:STANDARD
TZOFFSETFROM:-0500
TZOFFSETTO:-0600
TZNAME:CST
DTSTART:20211107T070000
END:STANDARD
BEGIN:DAYLIGHT
TZOFFSETFROM:-0600
TZOFFSETTO:-0500
TZNAME:CDT
DTSTART:20220313T080000
END:DAYLIGHT
BEGIN:STANDARD
TZOFFSETFROM:-0500
TZOFFSETTO:-0600
TZNAME:CST
DTSTART:20221106T070000
END:STANDARD
BEGIN:DAYLIGHT
TZOFFSETFROM:-0600
TZOFFSETTO:-0500
TZNAME:CDT
DTSTART:20230312T080000
END:DAYLIGHT
BEGIN:STANDARD
TZOFFSETFROM:-0500
TZOFFSETTO:-0600
TZNAME:CST
DTSTART:20231105T070000
END:STANDARD
BEGIN:DAYLIGHT
TZOFFSETFROM:-0600
TZOFFSETTO:-0500
TZNAME:CDT
DTSTART:20240310T080000
END:DAYLIGHT
BEGIN:STANDARD
TZOFFSETFROM:-0500
TZOFFSETTO:-0600
TZNAME:CST
DTSTART:20241103T070000
END:STANDARD
BEGIN:DAYLIGHT
TZOFFSETFROM:-0600
TZOFFSETTO:-0500
TZNAME:CDT
DTSTART:20250309T080000
END:DAYLIGHT
BEGIN:STANDARD
TZOFFSETFROM:-0500
TZOFFSETTO:-0600
TZNAME:CST
DTSTART:20251102T070000
END:STANDARD
END:VTIMEZONE
BEGIN:VEVENT
DTSTART;TZID=America/Chicago:20240928T110000
DTEND;TZID=America/Chicago:20240928T173000
DTSTAMP:20260423T082031
CREATED:20240729T150710Z
LAST-MODIFIED:20240729T150710Z
UID:10000345-1727521200-1727544600@foxpoint.org
SUMMARY:Fox Point Annual Golf Outing
DESCRIPTION:Registration is now open for the annual Fox Point Golf Outing! \nWhere: Palatine Hills Golf Course \nWhen: Saturday\, September 28th\, tee off between 11:30am – 1:30pm \nRegistration fee: $85/person; includes golf\, cart\, bucket of range balls\, and prizes.  \nFor more information and to register: https://www.signupgenius.com/go/10C0949AEA92AA3F4C43-50456740-2024#/  \nRegistration closes Friday\, September 6th if all slots have not yet been filled. \nPost golf celebration at the Blue Heron. Cash bar.
URL:https://foxpoint.org/event/fox-point-annual-golf-outing/
LOCATION:Palatine Hills Golf Club & Clubhouse\, 512 W Northwest Hwy\, Palatine\, IL\, 60067\, United States
GEO:42.130274;-88.054569
X-APPLE-STRUCTURED-LOCATION;VALUE=URI;X-ADDRESS=Palatine Hills Golf Club & Clubhouse 512 W Northwest Hwy Palatine IL 60067 United States;X-APPLE-RADIUS=500;X-TITLE=512 W Northwest Hwy:geo:-88.054569,42.130274
END:VEVENT
BEGIN:VEVENT
DTSTART;VALUE=DATE:20200912
DTEND;VALUE=DATE:20200913
DTSTAMP:20260423T082031
CREATED:20200323T234315Z
LAST-MODIFIED:20200717T172018Z
UID:10000184-1599868800-1599955199@foxpoint.org
SUMMARY:Fox Point Golf Outing
DESCRIPTION:The annual Fox Point Golf Outing will take place on Saturday\, September 12th at Palatine Hills Golf Course! \nChoose from 9 holes\, 18 holes or dinner only. \nTee off times are as follows: \n18 Holes: 12pm \n9 Holes:   2pm \nYour registration fee covers golf\, a cart\, prizes and a buffet dinner afterwards outside. Dinner will be served around 5pm and includes 3 different entrees\, side dishes\,  and dessert. Drinks are not included in your registration fee\, but the bar will be open. \nPlease RSVP by Saturday August 29th. When you sign up\, please indicate the names of those you wish to be paired with. \nhttps://www.signupgenius.com/go/5080c48a8a92fa4fa7-foxpoint27 \nIf you have any questions please do not hesitate to email Tim Twitchell at tntwitchell@comcast.net. \nWe hope you can make it!
URL:https://foxpoint.org/event/fox-point-golf-outing-2/
LOCATION:Palatine Hills Golf Club & Clubhouse\, 512 W Northwest Hwy\, Palatine\, IL\, 60067\, United States
GEO:42.130274;-88.054569
X-APPLE-STRUCTURED-LOCATION;VALUE=URI;X-ADDRESS=Palatine Hills Golf Club & Clubhouse 512 W Northwest Hwy Palatine IL 60067 United States;X-APPLE-RADIUS=500;X-TITLE=512 W Northwest Hwy:geo:-88.054569,42.130274
END:VEVENT
END:VCALENDAR