BEGIN:VCALENDAR
VERSION:2.0
PRODID:-//Fox Point Homeowners Association - ECPv6.15.17.1//NONSGML v1.0//EN
CALSCALE:GREGORIAN
METHOD:PUBLISH
X-WR-CALNAME:Fox Point Homeowners Association
X-ORIGINAL-URL:https://foxpoint.org
X-WR-CALDESC:Events for Fox Point Homeowners Association
REFRESH-INTERVAL;VALUE=DURATION:PT1H
X-Robots-Tag:noindex
X-PUBLISHED-TTL:PT1H
BEGIN:VTIMEZONE
TZID:America/Chicago
BEGIN:DAYLIGHT
TZOFFSETFROM:-0600
TZOFFSETTO:-0500
TZNAME:CDT
DTSTART:20190310T080000
END:DAYLIGHT
BEGIN:STANDARD
TZOFFSETFROM:-0500
TZOFFSETTO:-0600
TZNAME:CST
DTSTART:20191103T070000
END:STANDARD
BEGIN:DAYLIGHT
TZOFFSETFROM:-0600
TZOFFSETTO:-0500
TZNAME:CDT
DTSTART:20200308T080000
END:DAYLIGHT
BEGIN:STANDARD
TZOFFSETFROM:-0500
TZOFFSETTO:-0600
TZNAME:CST
DTSTART:20201101T070000
END:STANDARD
BEGIN:DAYLIGHT
TZOFFSETFROM:-0600
TZOFFSETTO:-0500
TZNAME:CDT
DTSTART:20210314T080000
END:DAYLIGHT
BEGIN:STANDARD
TZOFFSETFROM:-0500
TZOFFSETTO:-0600
TZNAME:CST
DTSTART:20211107T070000
END:STANDARD
BEGIN:DAYLIGHT
TZOFFSETFROM:-0600
TZOFFSETTO:-0500
TZNAME:CDT
DTSTART:20220313T080000
END:DAYLIGHT
BEGIN:STANDARD
TZOFFSETFROM:-0500
TZOFFSETTO:-0600
TZNAME:CST
DTSTART:20221106T070000
END:STANDARD
BEGIN:DAYLIGHT
TZOFFSETFROM:-0600
TZOFFSETTO:-0500
TZNAME:CDT
DTSTART:20230312T080000
END:DAYLIGHT
BEGIN:STANDARD
TZOFFSETFROM:-0500
TZOFFSETTO:-0600
TZNAME:CST
DTSTART:20231105T070000
END:STANDARD
BEGIN:DAYLIGHT
TZOFFSETFROM:-0600
TZOFFSETTO:-0500
TZNAME:CDT
DTSTART:20240310T080000
END:DAYLIGHT
BEGIN:STANDARD
TZOFFSETFROM:-0500
TZOFFSETTO:-0600
TZNAME:CST
DTSTART:20241103T070000
END:STANDARD
BEGIN:DAYLIGHT
TZOFFSETFROM:-0600
TZOFFSETTO:-0500
TZNAME:CDT
DTSTART:20250309T080000
END:DAYLIGHT
BEGIN:STANDARD
TZOFFSETFROM:-0500
TZOFFSETTO:-0600
TZNAME:CST
DTSTART:20251102T070000
END:STANDARD
BEGIN:DAYLIGHT
TZOFFSETFROM:-0600
TZOFFSETTO:-0500
TZNAME:CDT
DTSTART:20260308T080000
END:DAYLIGHT
BEGIN:STANDARD
TZOFFSETFROM:-0500
TZOFFSETTO:-0600
TZNAME:CST
DTSTART:20261101T070000
END:STANDARD
END:VTIMEZONE
BEGIN:VEVENT
DTSTART;VALUE=DATE:20250414
DTEND;VALUE=DATE:20250503
DTSTAMP:20260421T033138
CREATED:20250414T151809Z
LAST-MODIFIED:20250414T151809Z
UID:10000361-1744588800-1746230399@foxpoint.org
SUMMARY:FP Swim Team Registration
DESCRIPTION:The Fox Point Dolphins is a recreational team open to all children ages 5 to 15 residing in Fox Point. Join us for a fun summer of water sports. Swimmer Registration Fees: 1st swimmer: $260.00 Each additional swimmer: $190.00 $20 concession fee per family. \nRegistration is open thru May 2. REGISTER HERE.
URL:https://foxpoint.org/event/fp-swim-team-registration/
LOCATION:Online
ORGANIZER;CN="Fox Point Dolphins":MAILTO:foxpointswimteam@gmail.com
END:VEVENT
BEGIN:VEVENT
DTSTART;TZID=America/Chicago:20240717T160000
DTEND;TZID=America/Chicago:20240717T210000
DTSTAMP:20260421T033138
CREATED:20240708T140832Z
LAST-MODIFIED:20240708T142034Z
UID:10000343-1721232000-1721250000@foxpoint.org
SUMMARY:Swim Team End of Season Party - POOL CLOSES 4:00PM
DESCRIPTION:The swim team will be celebrating their successful season at the pool with a party for the Dolphins and their families. Pool will close at 4:00 PM for the remainder of the day.
URL:https://foxpoint.org/event/swim-team-end-of-season-party-pool-closed/
LOCATION:Fox Point Pool\, Barrington\, 60010\, United States
ORGANIZER;CN="Fox Point Dolphins":MAILTO:foxpointswimteam@gmail.com
GEO:42.1539141;-88.1361888
END:VEVENT
BEGIN:VEVENT
DTSTART;TZID=America/Chicago:20210713T150000
DTEND;TZID=America/Chicago:20210713T200000
DTSTAMP:20260421T033138
CREATED:20210414T174657Z
LAST-MODIFIED:20210414T174657Z
UID:10000247-1626188400-1626206400@foxpoint.org
SUMMARY:Home Swim Meet vs. Old Willow
DESCRIPTION:
URL:https://foxpoint.org/event/home-swim-meet-vs-old-willow/
LOCATION:Fox Point Pool\, Barrington\, 60010\, United States
ORGANIZER;CN="Fox Point Dolphins":MAILTO:foxpointswimteam@gmail.com
GEO:42.1539141;-88.1361888
END:VEVENT
BEGIN:VEVENT
DTSTART;TZID=America/Chicago:20210617T150000
DTEND;TZID=America/Chicago:20210617T200000
DTSTAMP:20260421T033138
CREATED:20210414T174524Z
LAST-MODIFIED:20210414T174524Z
UID:10000246-1623942000-1623960000@foxpoint.org
SUMMARY:Home Swim Meet vs Lake Forest
DESCRIPTION:
URL:https://foxpoint.org/event/home-swim-meet-vs-lake-forest/
LOCATION:Fox Point Pool\, Barrington\, 60010\, United States
ORGANIZER;CN="Fox Point Dolphins":MAILTO:foxpointswimteam@gmail.com
GEO:42.1539141;-88.1361888
END:VEVENT
BEGIN:VEVENT
DTSTART;TZID=America/Chicago:20200707T150000
DTEND;TZID=America/Chicago:20200707T200000
DTSTAMP:20260421T033138
CREATED:20200327T154313Z
LAST-MODIFIED:20200327T154313Z
UID:10000231-1594134000-1594152000@foxpoint.org
SUMMARY:Fox Point Swim Meet
DESCRIPTION:Fox Point vs. Old Willow
URL:https://foxpoint.org/event/fox-point-swim-meet-3/
LOCATION:Fox Point Pool\, Barrington\, 60010\, United States
ORGANIZER;CN="Fox Point Dolphins":MAILTO:foxpointswimteam@gmail.com
GEO:42.1539141;-88.1361888
END:VEVENT
BEGIN:VEVENT
DTSTART;TZID=America/Chicago:20200616T080000
DTEND;TZID=America/Chicago:20200616T090000
DTSTAMP:20260421T033138
CREATED:20200327T153923Z
LAST-MODIFIED:20200327T153923Z
UID:10000188-1592294400-1592298000@foxpoint.org
SUMMARY:Swim Team Pictures
DESCRIPTION:
URL:https://foxpoint.org/event/swim-team-pictures/
LOCATION:Fox Point Pool\, Barrington\, 60010\, United States
ORGANIZER;CN="Fox Point Dolphins":MAILTO:foxpointswimteam@gmail.com
GEO:42.1539141;-88.1361888
END:VEVENT
END:VCALENDAR